BEGIN:VCALENDAR
VERSION:2.0
PRODID:-//Wicked Grounds - ECPv6.15.20//NONSGML v1.0//EN
CALSCALE:GREGORIAN
METHOD:PUBLISH
X-ORIGINAL-URL:https://wickedgrounds.com
X-WR-CALDESC:Events for Wicked Grounds
REFRESH-INTERVAL;VALUE=DURATION:PT1H
X-Robots-Tag:noindex
X-PUBLISHED-TTL:PT1H
BEGIN:VTIMEZONE
TZID:America/Los_Angeles
BEGIN:DAYLIGHT
TZOFFSETFROM:-0800
TZOFFSETTO:-0700
TZNAME:PDT
DTSTART:20240310T100000
END:DAYLIGHT
BEGIN:STANDARD
TZOFFSETFROM:-0700
TZOFFSETTO:-0800
TZNAME:PST
DTSTART:20241103T090000
END:STANDARD
BEGIN:DAYLIGHT
TZOFFSETFROM:-0800
TZOFFSETTO:-0700
TZNAME:PDT
DTSTART:20250309T100000
END:DAYLIGHT
BEGIN:STANDARD
TZOFFSETFROM:-0700
TZOFFSETTO:-0800
TZNAME:PST
DTSTART:20251102T090000
END:STANDARD
BEGIN:DAYLIGHT
TZOFFSETFROM:-0800
TZOFFSETTO:-0700
TZNAME:PDT
DTSTART:20260308T100000
END:DAYLIGHT
BEGIN:STANDARD
TZOFFSETFROM:-0700
TZOFFSETTO:-0800
TZNAME:PST
DTSTART:20261101T090000
END:STANDARD
END:VTIMEZONE
BEGIN:VEVENT
DTSTART;TZID=America/Los_Angeles:20251009T080000
DTEND;TZID=America/Los_Angeles:20251009T170000
DTSTAMP:20260420T082026
CREATED:20251009T204827Z
LAST-MODIFIED:20251009T204827Z
UID:10000217-1759996800-1760029200@wickedgrounds.com
SUMMARY:ONLINE: Energy Persona Mastery: A 2 Part Series with Sir Scott
DESCRIPTION:This is a two-part class! We’ll meet on both 11/9 and 11/15. \nShape your presence. Command the room. Radiate what you choose. \nEvery time you walk into a dungeon\, a bar\, or a bedroom\, you’re already broadcasting an energy signature. The question is: are you shaping it — or is it shaping you? \nEnergy Persona Mastery is a 2-part online series that teaches you how to consciously shift your energetic presence for play\, ritual\, or everyday life. Across two live sessions\, you’ll learn practical tools\, practice exercises\, and leave with a personal Energy Persona Map you can use immediately. \nSession 1: Foundations \n– Discover your default chakra broadcast (what people feel first about you)\n– Practice shifting dominance between energy centers for different effects\n– Learn Scene Pre-Loading — how to prime your body language\, eye contact\, and micro-expressions to charge the air before you touch anyone \nSession 2: Expansion \n– Explore Elemental Alignment (Fire\, Water\, Earth\, Air) to flavor your energy persona\n– Experiment with Archetypal Masks from the Sacred Fire Kink system to temporarily borrow new energies\n– Build your personalized Energy Persona Map and integration ritual \nPRESENTER: \n🔥 Scott – “FireOnTheMtnTop” \nScott is a lifestyle Dominant\, Sadist\, Daddy\, and Primal Edge Player with over 18 years in the kink community. He’s a founding Director of G.O.D.S.\, creator of Colorado KNKE Kinky Camping\, and a seasoned Dungeon Monitor\, lifestyle event Emcee\, and presenter. \nAs a Dominant\, Scott teaches that leadership in kink is sacred work—rooted in care\, emotional safety\, and integrity. He’s known for creating grounded\, real-world conversations about power and play that help people feel seen\, strong\, and turned on by their truth. \n✨ Lecee \nLecee is the “yin” to Scott’s Dominant fire—his little “s.” She’s been active in the lifestyle for 8 years and brings playful insight\, emotional wisdom\, and lived experience as a submissive. \nTogether\, she and Scott co-create containers that are intimate\, brave\, and authentic. Her presence helps others feel permission to explore new desires\, embrace vulnerability\, and rewrite the old stories they were told about sex\, surrender\, and and worthiness. \nTICKETING: \n$50 suggested; $40-$60 sliding scale available. Please pay at the level you can comfortably afford. \nhttps://forbiddentickets.com/events/wicked-grounds/c9c242e5d3 \nWe offer multiple price points\, so that cost is not a barrier to attendance. \nSo – that’s it! Choose the level you can comfortably afford. \nPatreon members at the VIP+ level may get discounted tickets for $20. Just see your Patreon membership emails for this month’s discount code. Find out more at Patreon.com/WickedGrounds! \nIf cost is a barrier at any level\, please use the “Volunteer List” to request a free scholarship ticket. We will award as many scholarship tickets as we can on a space-available basis. \nACCESS: \nThis will be a live\, online class offered through Zoom. To participate\, you may need to download the free\, basic version of the Zoom app before the class! This class will be recorded for later viewing. \nZoom now provides closed captioning\, which will be available for this event.
URL:https://wickedgrounds.com/event/online-energy-persona-mastery-a-2-part-series-with-sir-scott/
CATEGORIES:Online,Workshops
ATTACH;FMTTYPE=image/jpeg:https://wickedgrounds.com/wp-content/uploads/2025/10/buddha-elemental-3d-n4b8aswfxfc-unsplash-800x.jpg
END:VEVENT
BEGIN:VEVENT
DTSTART;TZID=America/Los_Angeles:20251022T000000
DTEND;TZID=America/Los_Angeles:20251022T000000
DTSTAMP:20260420T082026
CREATED:20251201T140006Z
LAST-MODIFIED:20251022T185915Z
UID:10000223-1761091200-1761091200@wickedgrounds.com
SUMMARY:ONLINE: Shadow\, Power & the Erotic Self: A Ritual Descent with Sir Scott
DESCRIPTION:This is not a ‘nice’ workshop. This is sacred edge-play with the parts of ourselves we exile. In this 2-session online ritual descent\, we enter the underworld of the erotic psyche to explore the power and beauty of the shadow self through kink\, archetypes\, and conscious embodiment. \nThrough poetic reflection\, shadow persona work\, kink-informed ritual tools\, and energetic excavation\, you’ll meet the parts of yourself that dominate\, collapse\, mask\, and burn. You’ll also discover what these shadows truly long for—and how they can become allies in your erotic power. \nThis is an immersive and emotionally rich journey. Come with courage\, curiosity\, and a willingness to feel. \nFormat & Timing: \n• 2 Online Sessions – 2 hours each (Zoom or preferred platform)\n• Optional homework between sessions (Shadow Persona Quiz\, journaling\, sigil work)\n• Includes downloadable handouts\, ritual worksheets\, and reflection pages \nWho This Is For: \n• Kink-curious or seasoned practitioners exploring shadow integration\n• Erotic explorers seeking spiritual depth and psychological insight\n• Educators\, therapists\, facilitators\, or ritualists looking to deepen their shadow-informed practices \nAll genders\, orientations\, and identities welcome. This is a queer- and neurodivergent-welcoming space. Nudity\, live scenes\, or sexual activity are not part of this class. Adult themes and intense material will be engaged with care. \n**FAQ Highlights** \n**Q: Will this involve live scenes or nudity?** \nA: No. This is a teaching\, reflection\, and ritual exploration class\, not a play party. \n**Q: What if I’m new to kink or shadow work?** \nA: Perfect. Come as you are. Everything is framed accessibly\, with optional entry points. \n**Q: Do I have to share anything personal?** \nA: Sharing is welcome but never required. We’ll offer solo\, private options for every practice. \nPRESENTER: \n🔥 Scott – “FireOnTheMtnTop” \nScott Croushore is a kink educator\, ritual facilitator\, and licensed therapist with over two decades of experience guiding people into sacred erotic transformation. He is the creator of the Sacred Fire Kink Archetype system and co-creator of Silver Edge Kink. His work blends deep psychology\, mythic kink\, and ritual embodiment. \nTICKETING: \n$40 – $80 in advance. Please pay at the level you can comfortably afford. \nhttps://forbiddentickets.com/events/wicked-grounds/8e8038ea1c \nWe offer multiple price points\, so that cost is not a barrier to attendance. \nSo – that’s it! Choose the level you can comfortably afford. \nPatreon members at the VIP+ level may get discounted tickets for $20. Just see your Patreon membership emails for this month’s discount code. Find out more at Patreon.com/WickedGrounds! \nIf cost is a barrier at any level\, please use the “Volunteer List” to request a free scholarship ticket. We will award as many scholarship tickets as we can on a space-available basis. \nACCESS: \nThis will be a live\, recorded online class offered through Zoom. To participate\, you may need to download the free\, basic version of the Zoom app before the class! This class will be recorded and distributed to those who registered. \nZoom now provides closed captioning\, which will be available for this event.
URL:https://wickedgrounds.com/event/online-shadow-power-the-erotic-self-a-ritual-descent-with-sir-scott-2/
CATEGORIES:Online,Workshops
END:VEVENT
END:VCALENDAR